BEGIN:VCALENDAR
VERSION:2.0
PRODID:-//wp-events-plugin.com//7.2.3.1//EN
TZID:Australia/Sydney
X-WR-TIMEZONE:Australia/Sydney
BEGIN:VEVENT
UID:84@cruising.mhyc.com.au
DTSTART;TZID=Australia/Sydney:20260617T183000
DTEND;TZID=Australia/Sydney:20260617T213000
DTSTAMP:20250717T050616Z
URL:https://cruising.mhyc.com.au/events/monthly-cruising-meeting-2-2026-06
 -17/
SUMMARY:Monthly Cruising meeting
DESCRIPTION:&nbsp\;\n\n\n\nThird WEDNESDAY of each month.\n\n18.30 BBQ\n\n1
 9.30 Meeting starts\n\nCome along and meet up with fellow cruisers
ATTACH;FMTTYPE=image/jpeg:https://cruising.mhyc.com.au/wp-content/uploads/
 2024/05/members-lounge.jpg
CATEGORIES:monthly meeting,on-land
LOCATION:MHYC\, 75 Lower Parriwi Road\, the spit\, Mosman\, NSW\, 2088\, Au
 stralia
X-APPLE-STRUCTURED-LOCATION;VALUE=URI;X-ADDRESS=75 Lower Parriwi Road\, the
  spit\, Mosman\, NSW\, 2088\, Australia;X-APPLE-RADIUS=100;X-TITLE=MHYC:ge
 o:0,0
END:VEVENT
BEGIN:VTIMEZONE
TZID:Australia/Sydney
X-LIC-LOCATION:Australia/Sydney
BEGIN:STANDARD
DTSTART:20260405T020000
TZOFFSETFROM:+1100
TZOFFSETTO:+1000
TZNAME:AEST
END:STANDARD
END:VTIMEZONE
END:VCALENDAR