BEGIN:VCALENDAR
VERSION:2.0
PRODID:-//wp-events-plugin.com//7.2.3.1//EN
TZID:Australia/Sydney
X-WR-TIMEZONE:Australia/Sydney
BEGIN:VEVENT
UID:41@cruising.mhyc.com.au
DTSTART;TZID=Australia/Sydney:20240608T000000
DTEND;TZID=Australia/Sydney:20240610T000000
DTSTAMP:20240415T034657Z
URL:https://cruising.mhyc.com.au/events/kings-birthday-cruise/
SUMMARY:King's Birthday Cruise
DESCRIPTION:For those who would like to come along with their yacht and com
 e for a weekend cruise over the long weekend\, ensure you sign up below.\n
 \nFurther information on where and when will be sent out to those who sign
  up.\n\nDestination is dependent on weather to make the most of the weeken
 d sailing.\n\nMeet up near MHYC would be at 10.15 on Saturday
ATTACH;FMTTYPE=image/jpeg:https://cruising.mhyc.com.au/wp-content/uploads/
 2024/04/Winter-cruise-scaled.jpeg
CATEGORIES:on-water
END:VEVENT
BEGIN:VTIMEZONE
TZID:Australia/Sydney
X-LIC-LOCATION:Australia/Sydney
BEGIN:STANDARD
DTSTART:20240407T020000
TZOFFSETFROM:+1100
TZOFFSETTO:+1000
TZNAME:AEST
END:STANDARD
END:VTIMEZONE
END:VCALENDAR