BEGIN:VCALENDAR
VERSION:2.0
PRODID:-//wp-events-plugin.com//7.2.3.1//EN
TZID:Australia/Sydney
X-WR-TIMEZONE:Australia/Sydney
BEGIN:VEVENT
UID:67@cruising.mhyc.com.au
DTSTART;TZID=Australia/Sydney:20241213T180000
DTEND;TZID=Australia/Sydney:20241213T220000
DTSTAMP:20241203T032418Z
URL:https://cruising.mhyc.com.au/events/cruising-xmas-party-2024/
SUMMARY:Cruising Xmas party 2024
DESCRIPTION:\n\nWelcome to this years Cruising Christmas party!\n\nWe meet 
 in CastleCraig for a nice party together with fellow cruisers and friends.
  (Address will be provided when you RSVP)                      
   Swop stories of the year\, talk about the coming season and eat\, drink
  and be merry (and swim).\n\nSanta might make an appearance so bring a Sec
 ret Santa gift for each person in your party.\n\nBring a plate to share\, 
 entree or dessert\, and your main meal for your group. And a Secret Santa 
 present worth $10 for each person.\n\nWelcome!\n\nRSVP by 6 December for u
 s to be able to plan accordingly - fill in the ticket below.
ATTACH;FMTTYPE=image/jpeg:https://cruising.mhyc.com.au/wp-content/uploads/
 2023/11/santa-in-dinghy.jpg
CATEGORIES:Cruising,on-land
END:VEVENT
BEGIN:VTIMEZONE
TZID:Australia/Sydney
X-LIC-LOCATION:Australia/Sydney
BEGIN:DAYLIGHT
DTSTART:20241006T030000
TZOFFSETFROM:+1000
TZOFFSETTO:+1100
TZNAME:AEDT
END:DAYLIGHT
END:VTIMEZONE
END:VCALENDAR