BEGIN:VCALENDAR
VERSION:2.0
PRODID:-//wp-events-plugin.com//7.2.3.1//EN
TZID:Australia/Sydney
X-WR-TIMEZONE:Australia/Sydney
BEGIN:VEVENT
UID:72@cruising.mhyc.com.au
DTSTART;TZID=Australia/Sydney:20241226T110000
DTEND;TZID=Australia/Sydney:20241231T110000
DTSTAMP:20241205T224029Z
URL:https://cruising.mhyc.com.au/events/cruise-after-xmas/
SUMMARY:Cruise after Xmas
DESCRIPTION:This year we are planning a sail to Shellharbour on the 26th of
  December - returning on the 30th or 31st of December\n\nLeaving MHYC on t
 he 26th at 11.00\, with a first stop in Botany Bay or Port Hacking (weathe
 r dependant)\n\nWe then sail to Shellharbour and stay on the marina there 
 for a few nights before heading back to Sydney Harbour in time for the fir
 eworks.\n\nIf the weather is adverse\, we will sail north to Pittwater.\n\
 nDoes this sound like something you would like to come along to with your 
 yacht and crew - let us know so that we can update you with the plans as w
 e get closer to knowing the forecast.
ATTACH;FMTTYPE=image/jpeg:https://cruising.mhyc.com.au/wp-content/uploads/
 2024/12/IMG_2655.jpeg
CATEGORIES:Cruising,on-water
END:VEVENT
BEGIN:VTIMEZONE
TZID:Australia/Sydney
X-LIC-LOCATION:Australia/Sydney
BEGIN:DAYLIGHT
DTSTART:20241006T030000
TZOFFSETFROM:+1000
TZOFFSETTO:+1100
TZNAME:AEDT
END:DAYLIGHT
END:VTIMEZONE
END:VCALENDAR